BEGIN:VCALENDAR
VERSION:2.0
PRODID:-//VS6 Römerbergschule - ECPv6.15.19//NONSGML v1.0//EN
CALSCALE:GREGORIAN
METHOD:PUBLISH
X-ORIGINAL-URL:https://roemerbergschule.at
X-WR-CALDESC:Veranstaltungen für VS6 Römerbergschule
REFRESH-INTERVAL;VALUE=DURATION:PT1H
X-Robots-Tag:noindex
X-PUBLISHED-TTL:PT1H
BEGIN:VTIMEZONE
TZID:Europe/Vienna
BEGIN:DAYLIGHT
TZOFFSETFROM:+0100
TZOFFSETTO:+0200
TZNAME:CEST
DTSTART:20250330T010000
END:DAYLIGHT
BEGIN:STANDARD
TZOFFSETFROM:+0200
TZOFFSETTO:+0100
TZNAME:CET
DTSTART:20251026T010000
END:STANDARD
BEGIN:DAYLIGHT
TZOFFSETFROM:+0100
TZOFFSETTO:+0200
TZNAME:CEST
DTSTART:20260329T010000
END:DAYLIGHT
BEGIN:STANDARD
TZOFFSETFROM:+0200
TZOFFSETTO:+0100
TZNAME:CET
DTSTART:20261025T010000
END:STANDARD
BEGIN:DAYLIGHT
TZOFFSETFROM:+0100
TZOFFSETTO:+0200
TZNAME:CEST
DTSTART:20270328T010000
END:DAYLIGHT
BEGIN:STANDARD
TZOFFSETFROM:+0200
TZOFFSETTO:+0100
TZNAME:CET
DTSTART:20271031T010000
END:STANDARD
END:VTIMEZONE
BEGIN:VEVENT
DTSTART;TZID=Europe/Vienna:20260309T080000
DTEND;TZID=Europe/Vienna:20260309T114500
DTSTAMP:20260420T111001
CREATED:20250922T163840Z
LAST-MODIFIED:20251008T094038Z
UID:1913-1773043200-1773056700@roemerbergschule.at
SUMMARY:Märchenstunde
DESCRIPTION:Märchen „Die Zaubermühle“ von Frau Laudacher
URL:https://roemerbergschule.at/termin/maerchenstunde/
LOCATION:Römerbergschule – VS 6\, Donatusgasse 3a\, Linz\, 4020
CATEGORIES:Kulturprogramm
ATTACH;FMTTYPE=image/png:https://roemerbergschule.at/wp-content/uploads/2025/09/Geschichte.png
END:VEVENT
BEGIN:VEVENT
DTSTART;VALUE=DATE:20260328
DTEND;VALUE=DATE:20260408
DTSTAMP:20260420T111001
CREATED:20250922T163937Z
LAST-MODIFIED:20251007T164943Z
UID:1916-1774659600-1775523599@roemerbergschule.at
SUMMARY:Osterferien
DESCRIPTION:Schöne Ferien!
URL:https://roemerbergschule.at/termin/osterferien/
CATEGORIES:Ferien / schulfrei
ATTACH;FMTTYPE=image/png:https://roemerbergschule.at/wp-content/uploads/2025/09/Ostern.png
END:VEVENT
END:VCALENDAR