BEGIN:VCALENDAR
VERSION:2.0
PRODID:-//VS6 Römerbergschule - ECPv6.15.19//NONSGML v1.0//EN
CALSCALE:GREGORIAN
METHOD:PUBLISH
X-ORIGINAL-URL:https://roemerbergschule.at
X-WR-CALDESC:Veranstaltungen für VS6 Römerbergschule
REFRESH-INTERVAL;VALUE=DURATION:PT1H
X-Robots-Tag:noindex
X-PUBLISHED-TTL:PT1H
BEGIN:VTIMEZONE
TZID:Europe/Vienna
BEGIN:DAYLIGHT
TZOFFSETFROM:+0100
TZOFFSETTO:+0200
TZNAME:CEST
DTSTART:20240331T010000
END:DAYLIGHT
BEGIN:STANDARD
TZOFFSETFROM:+0200
TZOFFSETTO:+0100
TZNAME:CET
DTSTART:20241027T010000
END:STANDARD
BEGIN:DAYLIGHT
TZOFFSETFROM:+0100
TZOFFSETTO:+0200
TZNAME:CEST
DTSTART:20250330T010000
END:DAYLIGHT
BEGIN:STANDARD
TZOFFSETFROM:+0200
TZOFFSETTO:+0100
TZNAME:CET
DTSTART:20251026T010000
END:STANDARD
BEGIN:DAYLIGHT
TZOFFSETFROM:+0100
TZOFFSETTO:+0200
TZNAME:CEST
DTSTART:20260329T010000
END:DAYLIGHT
BEGIN:STANDARD
TZOFFSETFROM:+0200
TZOFFSETTO:+0100
TZNAME:CET
DTSTART:20261025T010000
END:STANDARD
END:VTIMEZONE
BEGIN:VEVENT
DTSTART;TZID=Europe/Vienna:20251002T180000
DTEND;TZID=Europe/Vienna:20251002T180000
DTSTAMP:20260420T192708
CREATED:20250922T155248Z
LAST-MODIFIED:20251007T162334Z
UID:1880-1759428000-1759428000@roemerbergschule.at
SUMMARY:Schulforum
DESCRIPTION:Das Schulforum findet um 18:00 Uhr in der 2a im 1. Stock statt.\nEinladungen erhalten die Klassenelternvertreter*innen.
URL:https://roemerbergschule.at/termin/schulforum/
LOCATION:Römerbergschule – VS 6\, Donatusgasse 3a\, Linz\, 4020
CATEGORIES:Schulgemeinschaft
END:VEVENT
BEGIN:VEVENT
DTSTART;TZID=Europe/Vienna:20251013T090000
DTEND;TZID=Europe/Vienna:20251013T110000
DTSTAMP:20260420T192708
CREATED:20250922T155702Z
LAST-MODIFIED:20251007T160959Z
UID:1883-1760346000-1760353200@roemerbergschule.at
SUMMARY:Tag der offenen Tür
DESCRIPTION:Die Begrüßung durch die Schulleiterin findet um 09:00 Uhr im 1. Stock statt. \nWir freuen uns\, Ihnen und Ihren Kindern unsere Schule zeigen zu dürfen!
URL:https://roemerbergschule.at/termin/tag-der-offenen-tuer/
LOCATION:Römerbergschule – VS 6\, Donatusgasse 3a\, Linz\, 4020
CATEGORIES:Interessenten
END:VEVENT
BEGIN:VEVENT
DTSTART;VALUE=DATE:20251027
DTEND;VALUE=DATE:20251102
DTSTAMP:20260420T192708
CREATED:20250922T155947Z
LAST-MODIFIED:20251007T155943Z
UID:1885-1761526800-1761958799@roemerbergschule.at
SUMMARY:Herbstferien
DESCRIPTION:Wir wünschen allen erholsame Ferien!
URL:https://roemerbergschule.at/termin/herbstferien/
CATEGORIES:Ferien / schulfrei
ATTACH;FMTTYPE=image/png:https://roemerbergschule.at/wp-content/uploads/2025/09/herbstferien.png
END:VEVENT
END:VCALENDAR